BEGIN:VCALENDAR
VERSION:2.0
PRODID:-//RIGHTHERE//CALENDARIZE IT V3.2//EN
BEGIN:VTIMEZONE
TZID:Europe/Paris
X-MICROSOFT-CDO-TZID:3
BEGIN:STANDARD
DTSTART:20251026T010000
TZOFFSETFROM:+0200
TZOFFSETTO:+0100
TZNAME:CET
END:STANDARD
BEGIN:DAYLIGHT
DTSTART:20260329T010000
TZOFFSETFROM:+0100
TZOFFSETTO:+0200
TZNAME:CEST
END:DAYLIGHT
BEGIN:STANDARD
DTSTART:20261025T010000
TZOFFSETFROM:+0200
TZOFFSETTO:+0100
TZNAME:CET
END:STANDARD
END:VTIMEZONE
BEGIN:VEVENT
UID:750-events@www.owen.coop
DTSTART;VALUE=DATE:20190121
DTEND;VALUE=DATE:20190121
DTSTAMP;TZID=Europe/Paris:20190221T162342
SUMMARY:Permanence SAINT-PAUL-TROIS-CHÂTEAUX
URL:https://www.owen.coop/events/permanence-saint-paul-trois-chateaux/
ORGANIZER;CN=Collectif Owen PRISME:MAILTO:contact@caeprisme.com
LOCATION:Saint-Paul-Trois-Châteaux Locaux Ancre
END:VEVENT
END:VCALENDAR